BEGIN:VCALENDAR
VERSION:2.0
PRODID:-//Tukios.com/
BEGIN:VEVENT
UID:e3226642-f7cd-48d5-8f24-4a4482f42362@www.kingbrothersfh.com
DTSTAMP:20260423T222844Z
DTSTART:20260426T170000Z
DTEND:20260426T183000Z
SUMMARY:Graveside Service
DESCRIPTION:
URL:https://www.kingbrothersfh.com/obituaries/dennis-durden
LOCATION: 909 5th Avenue  Vidalia GA 30474
GEO:32.2191719;-82.3985532
END:VEVENT
END:VCALENDAR